BEGIN:VCALENDAR
VERSION:2.0
PRODID:-//Ghid Local Brasov - ECPv5.1.1//NONSGML v1.0//EN
CALSCALE:GREGORIAN
METHOD:PUBLISH
X-WR-CALNAME:Ghid Local Brasov
X-ORIGINAL-URL:https://ghidlocal.com/brasov
X-WR-CALDESC:Events for Ghid Local Brasov
BEGIN:VTIMEZONE
TZID:Europe/Bucharest
BEGIN:DAYLIGHT
TZOFFSETFROM:+0200
TZOFFSETTO:+0300
TZNAME:EEST
DTSTART:20180325T010000
END:DAYLIGHT
BEGIN:STANDARD
TZOFFSETFROM:+0300
TZOFFSETTO:+0200
TZNAME:EET
DTSTART:20181028T010000
END:STANDARD
END:VTIMEZONE
BEGIN:VEVENT
DTSTART;TZID=Europe/Bucharest:20180331T110000
DTEND;TZID=Europe/Bucharest:20180331T121000
DTSTAMP:20260420T131110
CREATED:20180313T225156Z
LAST-MODIFIED:20180313T225156Z
UID:45430-1522494000-1522498200@ghidlocal.com
SUMMARY:★ Domnu' Goe ★ Teatrul Sică Alexandrescu★ spectacol pentru copii
DESCRIPTION:DOMNU’ GOE\nde I.L. Caragiale \nDistribuţia: Gabriel Costea\, Carmen Moruz\, Oana Huiu\, Mirela Borș\, George Custura\, Marius Cristian Cisar. \nRegia: Dan Tudor\nScenografia: Doru Zanfir\nCoregrafia: Florin Fieroiu \nDurata: 1h 10’ fara pauza \nBilete se pot achiziționa online\, de pe portalul http://biletebrasov.ro/program-bilete-online-teatru-sica-alexandrescu sau direct de la casa de bilete a teatrului.  \nProgram casa de bilete:\nmarți – vineri: 11:00 –19:00\nsâmbătă – duminică: 15:00 –19:00\nTel: +4 0268 412 969 \nPreţuri bilete:\nCategoria I – 25 lei\nCategoria II – 20 lei\nPreţ redus – 7 lei\nReducerile sunt acordate pentru pensionari\, elevi şi studenţi. \n\nHome \n\n
URL:https://ghidlocal.com/brasov/eveniment/%e2%98%85-domnu-goe-%e2%98%85-teatrul-sica-alexandrescu%e2%98%85-spectacol-pentru-copii-2/
LOCATION:Teatrul „Sică Alexandrescu” Brașov\, Piata Teatrului Nr. 1\, Brasov\, RO
CATEGORIES:Teatru Brasov
ATTACH;FMTTYPE=image/jpeg:https://cdn.cluj.com/ghidlocalcom/sites/6/2018/03/45430_image_29134071_413471602437079_4821511856784932864_n.jpg
END:VEVENT
END:VCALENDAR